BEGIN:VCALENDAR
VERSION:2.0
PRODID:-//ChamberMaster//Event Calendar 2.0//EN
METHOD:PUBLISH
X-PUBLISHED-TTL:P3D
REFRESH-INTERVAL:P3D
CALSCALE:GREGORIAN
BEGIN:VEVENT
DTSTART:20260717T003000Z
DTEND:20260717T020000Z
X-MICROSOFT-CDO-ALLDAYEVENT:FALSE
SUMMARY:Martin Sexton
DESCRIPTION:Martin Sexton brings his unmistakable voice\, soulful songwriting\, and genre-blending acoustic style to the Jonathan's Ogunquit stage. Known for his dynamic vocal range\, heartfelt storytelling\, and improvisational live performances\, Sexton creates an intimate and uplifting concert experience. Fans can expect a night filled with blues\, folk\, rock\, and pure musical authenticity.
X-ALT-DESC;FMTTYPE=text/html:Martin Sexton brings his unmistakable voice\, soulful songwriting\, and genre-blending acoustic style to the Jonathan&rsquo\;s Ogunquit stage. Known for his dynamic vocal range\, heartfelt storytelling\, and improvisational live performances\, Sexton creates an intimate and uplifting concert experience. Fans can expect a night filled with blues\, folk\, rock\, and pure musical authenticity.
LOCATION:Jonathan's Ogunquit 92 Bourne Ln\, Ogunquit\, ME 03907
UID:e.882.58353
SEQUENCE:3
DTSTAMP:20260422T124438Z
URL:https://chamber.ogunquit.org/events/details/martin-sexton-58353
END:VEVENT

END:VCALENDAR
