BEGIN:VCALENDAR
VERSION:2.0
PRODID:-//ChamberMaster//Event Calendar 2.0//EN
METHOD:PUBLISH
X-PUBLISHED-TTL:P3D
REFRESH-INTERVAL:P3D
CALSCALE:GREGORIAN
BEGIN:VEVENT
DTSTART:20260801T003000Z
DTEND:20260801T020000Z
X-MICROSOFT-CDO-ALLDAYEVENT:FALSE
SUMMARY:Memories of Patsy – The Patsy Cline Tribute Show
DESCRIPTION:Memories of Patsy brings the timeless voice and spirit of Patsy Cline back to the stage with stunning authenticity. Featuring heartfelt vocals\, classic arrangements\, and the emotional warmth that defined Cline's legendary career\, this tribute delivers an elegant\, nostalgic evening filled with beloved hits and country-pop classics.
X-ALT-DESC;FMTTYPE=text/html:Memories of Patsy brings the timeless voice and spirit of Patsy Cline back to the stage with stunning authenticity. Featuring heartfelt vocals\, classic arrangements\, and the emotional warmth that defined Cline&rsquo\;s legendary career\, this tribute delivers an elegant\, nostalgic evening filled with beloved hits and country-pop classics.
LOCATION:Jonathan's Ogunquit 92 Bourne Ln\, Ogunquit\, ME 03907
UID:e.882.58360
SEQUENCE:3
DTSTAMP:20260422T124603Z
URL:https://chamber.ogunquit.org/events/details/memories-of-patsy-the-patsy-cline-tribute-show-07-31-2026-58360
END:VEVENT

END:VCALENDAR
