BEGIN:VCALENDAR
VERSION:2.0
PRODID:-//ChamberMaster//Event Calendar 2.0//EN
METHOD:PUBLISH
X-PUBLISHED-TTL:P3D
REFRESH-INTERVAL:P3D
CALSCALE:GREGORIAN
BEGIN:VEVENT
DTSTART:20260517T000000Z
DTEND:20260517T013000Z
X-MICROSOFT-CDO-ALLDAYEVENT:FALSE
SUMMARY:Moondance – The Ultimate Van Morrison Tribute Show
DESCRIPTION:A full-scale Van Morrison tribute capturing the sound\, soul\, and energy of Van the Man's legendary catalog. The show features classics like Brown Eyed Girl\, Moondance\, Domino\, Into the Mystic\, Tupelo Honey\, and more\, performed with rich vocals\, tight instrumentation\, and an authentic concert feel praised by major media outlets.
X-ALT-DESC;FMTTYPE=text/html:A full-scale Van Morrison tribute capturing the sound\, soul\, and energy of Van the Man&rsquo\;s legendary catalog. The show features classics like Brown Eyed Girl\, Moondance\, Domino\, Into the Mystic\, Tupelo Honey\, and more\, performed with rich vocals\, tight instrumentation\, and an authentic concert feel praised by major media outlets.
LOCATION:Venue Address: 92 Bourne Ln\, Ogunquit\, ME 03907
UID:e.882.58333
SEQUENCE:3
DTSTAMP:20260422T114408Z
URL:https://chamber.ogunquit.org/events/details/moondance-the-ultimate-van-morrison-tribute-show-05-16-2026-58333
END:VEVENT

END:VCALENDAR
