BEGIN:VCALENDAR
VERSION:2.0
PRODID:-//ChamberMaster//Event Calendar 2.0//EN
METHOD:PUBLISH
X-PUBLISHED-TTL:P3D
REFRESH-INTERVAL:P3D
CALSCALE:GREGORIAN
BEGIN:VEVENT
DTSTART:20260710T230000Z
DTEND:20260711T003000Z
X-MICROSOFT-CDO-ALLDAYEVENT:FALSE
SUMMARY:Northern Cross – A Tribute to Crosby\, Stills\, Nash & Young
DESCRIPTION:Northern Cross delivers a rich\, harmony-driven tribute to the legendary music of Crosby\, Stills\, Nash & Young. With warm vocals\, intricate acoustic arrangements\, and faithful recreations of the group's most iconic songs\, the band brings the timeless sound of CSNY to life. Expect a nostalgic\, heartfelt evening filled with classic folk-rock storytelling and soaring harmonies.
X-ALT-DESC;FMTTYPE=text/html:Northern Cross delivers a rich\, harmony-driven tribute to the legendary music of Crosby\, Stills\, Nash &amp\; Young. With warm vocals\, intricate acoustic arrangements\, and faithful recreations of the group&rsquo\;s most iconic songs\, the band brings the timeless sound of CSNY to life. Expect a nostalgic\, heartfelt evening filled with classic folk-rock storytelling and soaring harmonies.
LOCATION:Jonathan's Ogunquit 92 Bourne Ln\, Ogunquit\, ME 03907
UID:e.882.58350
SEQUENCE:3
DTSTAMP:20260422T124846Z
URL:https://chamber.ogunquit.org/events/details/northern-cross-a-tribute-to-crosby-stills-nash-young-58350
END:VEVENT

END:VCALENDAR
