BEGIN:VCALENDAR
VERSION:2.0
PRODID:-//ChamberMaster//Event Calendar 2.0//EN
METHOD:PUBLISH
X-PUBLISHED-TTL:P3D
REFRESH-INTERVAL:P3D
CALSCALE:GREGORIAN
BEGIN:VEVENT
DTSTART:20180822T220000Z
DTEND:20180822T233000Z
X-MICROSOFT-CDO-ALLDAYEVENT:FALSE
SUMMARY:Of Mice and Mammoths: Ice Age Perspectives on Climate Change\, Extinction\, and Resilience
DESCRIPTION:Earth's largest animals disappeared at the end of the last ice age\, leaving consequences for biodiversity that are still playing out thousands of years later. But the story isn't all bleak there are tales of resilience and survival\, too. These lessons from the past can help inform cutting edge but often controversial conservation strategies today\, from managed relocation of species to de-extinction and rewilding. Understanding how yesterday's biodiversity responded to "natural experiments" like climate change\, extinction\, and other threats can help ecologists prepare for the challenges of the coming century.\n\n\n\nJacquelyn Gill is an assistant professor of paleoecology at the Climate Change Institute and the School of Biology and Ecology at the University of Maine\, where she directs the BEAST Lab for investigations on Biodiversity and Environments Across Space and Time. An ice age ecologist\, she uses the natural experiments of the fossil record to understand challenges facing ecosystems in a warming world\, with a particular focus on extinction impacts. She co-hosts "Warm Regards\," a podcast of climate change conversations. Her presentation is part of the Ted Exford Climate Stewards Lecture series\, with support provided by Dave and Loretta (Exford) Hoglund.
X-ALT-DESC;FMTTYPE=text/html:<span style="font-family:calibri\,sans-serif">Earth&rsquo\;s largest animals disappeared at the end of the last ice age\, leaving consequences for biodiversity that are still playing out thousands of years later. But the story isn&rsquo\;t all bleak&mdash\;there are tales of resilience and survival\, too. These lessons from the past can help inform cutting edge&mdash\;but often controversial&mdash\;conservation strategies today\, from managed relocation of species to de-extinction and rewilding. Understanding how yesterday&rsquo\;s biodiversity responded to &ldquo\;natural experiments&rdquo\; like climate change\, extinction\, and other threats can help ecologists prepare for the challenges of the coming century.</span><br />\n<br />\n<span style="font-family:calibri\,sans-serif">Jacquelyn Gill is an assistant professor of paleoecology at the Climate Change Institute and the School of Biology and Ecology at the University of Maine\, where she directs the BEAST Lab for investigations on Biodiversity and Environments Across Space and Time. An ice age ecologist\, she uses the natural experiments of the fossil record to understand challenges facing ecosystems in a warming world\, with a particular focus on extinction impacts. She co-hosts &ldquo\;Warm Regards\,&rdquo\; a podcast of climate change conversations. Her presentation is part of the Ted Exford Climate Stewards Lecture series\, with support provided by Dave and Loretta (Exford) Hoglund.&nbsp\;</span>
LOCATION:Wells Reserve at Laudholm 342 Laudholm Farm Rd Wells\, ME
UID:e.882.7061
SEQUENCE:3
DTSTAMP:20260421T192542Z
URL:https://chamber.ogunquit.org/events/details/of-mice-and-mammoths-ice-age-perspectives-on-climate-change-extinction-and-resilience-7061
END:VEVENT

END:VCALENDAR
