BEGIN:VCALENDAR
VERSION:2.0
PRODID:-//ChamberMaster//Event Calendar 2.0//EN
METHOD:PUBLISH
X-PUBLISHED-TTL:P3D
REFRESH-INTERVAL:P3D
CALSCALE:GREGORIAN
BEGIN:VEVENT
DTSTART:20160904T230000Z
DTEND:20160905T000000Z
X-MICROSOFT-CDO-ALLDAYEVENT:FALSE
SUMMARY:Ogunquit Baptist Church Concert
DESCRIPTION:Concert by various artists.
X-ALT-DESC;FMTTYPE=text/html:Concert by various artists.
LOCATION:Ogunquit Baptist Church
UID:e.882.48
SEQUENCE:3
DTSTAMP:20260425T103136Z
URL:https://chamber.ogunquit.org/events/details/ogunquit-baptist-church-concert-09-04-2016-48
END:VEVENT

END:VCALENDAR
