BEGIN:VCALENDAR
VERSION:2.0
PRODID:-//ChamberMaster//Event Calendar 2.0//EN
METHOD:PUBLISH
X-PUBLISHED-TTL:P3D
REFRESH-INTERVAL:P3D
CALSCALE:GREGORIAN
BEGIN:VEVENT
DTSTART:20260502T210000Z
DTEND:20260502T230000Z
X-MICROSOFT-CDO-ALLDAYEVENT:FALSE
SUMMARY:Ogunquit Baptist Church--Free Pizza/Movie Night for Kids
DESCRIPTION:Ogunquit Baptist Church is hosting a FREE PIzza/Movie Night for children ages 6-12. Younger children are welcome with a parent. We'll be watching the original Charlotte's Web movie\, eating pizza\, popcorn\, and some treats. Kids are welcome to bring pillows\, blankets\, or bean bag chairs to be comfy while enjoying this fun time.\n\nWe do require a permission slip that can be emailed to you or filled out that evening at the church.
X-ALT-DESC;FMTTYPE=text/html:<p>Ogunquit Baptist Church is hosting a FREE PIzza/Movie Night for children ages 6-12. Younger children are welcome with a parent. We&#39\;ll be watching the original Charlotte&#39\;s Web movie\, eating pizza\, popcorn\, and some treats. Kids are welcome to bring pillows\, blankets\, or bean bag chairs to be comfy while enjoying this fun time.<br />\nWe do require a permission slip that can be emailed to you or filled out that evening at the church.</p>\n
LOCATION:Fellowship Hall Ogunquit Baptrist Church 257 Shore Road
UID:e.882.58373
SEQUENCE:3
DTSTAMP:20260422T114613Z
URL:https://chamber.ogunquit.org/events/details/ogunquit-baptist-church-free-pizza-movie-night-for-kids-58373
END:VEVENT

END:VCALENDAR
