BEGIN:VCALENDAR
VERSION:2.0
PRODID:-//ChamberMaster//Event Calendar 2.0//EN
METHOD:PUBLISH
X-PUBLISHED-TTL:P3D
REFRESH-INTERVAL:P3D
CALSCALE:GREGORIAN
BEGIN:VEVENT
DTSTART:20180616T140000Z
DTEND:20180616T210000Z
X-MICROSOFT-CDO-ALLDAYEVENT:FALSE
SUMMARY:OGUNQUIT'S DAY IN THE PARK
DESCRIPTION:This event is established to showcase Ogunquit and the surrounding areas local talent pool of artisans\, craftsmen and more\, in a celebratory atmosphere including music and food. With support and collaboration from the Town of Ogunquit Parks and Recreation Committee\, and their newly established Music in the Park series\, we're introducing the Dorothea Jacobs Grant Common to new visitors and residents alike.\n\nVendor applications are available here.\n\nFood Truck applications are available here. \n\n \n\nThis is a free admission event and open to the general public.\n\n \n\nActivities on the common to include: exhibitors\, children's activities and entertainment\, food trucks\, concerts by local musicians.\n\n\n\nBand schedule (subject to change)\n\n10am -11:30am: Rob Duquette (children's music)\n\n11:50am - 1:20pm: Pete Peterson (R&B)\n\n1:40pm - 3:10pm: Rockin Rhythm Revue (classic rock)\n\n3:30pm - 5pm: The Dirt Boys (rock)\n\n\n\nExhibitors include:\n\nAland Realty                       alandrealty.com\n\n	\n		\n		\n	\n	\n		\n			Angela Branon Fine Arts\n			 \n		\n		\n			Art Hope\n			arthope.org\n		\n		\n			Arundel Ice Cream Shop Cart\n			arundelicecreamshop.com\n		\n		\n			Austill's Beeswax Paintings\n			loriaustill.com\n		\n		\n			C2C Food Truck\n			coast2coastcaterers.com\n		\n		\n			Creative Turnings by John\n			 \n		\n		\n			David Sullivan Photography\n			dsullivanphotography.com\n		\n		\n			Glass by CLM\n			glassbyclm.com\n		\n		\n			Homemade Specialty \n			homemadespecialty.com\n		\n		\n			Hubba Hubba Foods\n			hubbahubbafoods.com\n		\n		\n			Jim O'Reilly Photography\n			jimoreillyphoto.com\n		\n		\n			Lakonia Greek Products\n			dafnigreekgourmet.com\n		\n		\n			Leather Man Dan\n			leathermandan.com\n		\n		\n			Mainely Chic Designs\n			 \n		\n		\n			Ogunquit Rotary Club\n			ogunquitrotaryme.org\n		\n		\n			Red Crow Studio\n			 \n		\n		\n			Shore D cor\n			shoredecor.org\n		\n		\n			Sunshine Apothecary\n			endlessherbs.com\n		\n		\n			Talespin Studio\n			 \n		\n		\n			The Truffle Truck\n			truffletruck.com\n		\n		\n			Treasures from Trees
X-ALT-DESC;FMTTYPE=text/html:<span style="font-size:14px\;"><span style="font-family:tahoma\,sans-serif\;">This event is established to showcase Ogunquit and the surrounding areas local talent pool of artisans\, craftsmen and more\, in a celebratory atmosphere including music and food. With support and collaboration from the Town of Ogunquit Parks and Recreation Committee\, and their newly established <em>Music in the Park </em>series\, we&#39\;re introducing the Dorothea Jacobs Grant Common to new visitors and residents alike.<br />\n<a href="https://chambermaster.blob.core.windows.net/userfiles/UserFiles/chambers/882/File/2018DIPcraft_vendorapplication.pdf" target="_blank">Vendor applications are available here.</a><br />\n<a href="https://chambermaster.blob.core.windows.net/userfiles/UserFiles/chambers/882/File/2018DIPtruck_vendorapplicationb.pdf">Food Truck applications are available here.</a> </span><br />\n&nbsp\;<br />\n<span style="font-family:tahoma\,sans-serif\;">This is a free admission event and open to the general public.</span><br />\n&nbsp\;<br />\n<span style="font-family:tahoma\,sans-serif\;">Activities on the common to include: exhibitors\, children&#39\;s activities and entertainment\, food trucks\, concerts by local musicians.</span><br />\n<br />\nBand schedule (subject to change)<br />\n10am -11:30am: Rob Duquette&nbsp\;(children&#39\;s music)<br />\n11:50am - 1:20pm: Pete Peterson (R&amp\;B)<br />\n1:40pm - 3:10pm: Rockin Rhythm Revue (classic rock)<br />\n3:30pm - 5pm: The Dirt Boys (rock)<br />\n<br />\nExhibitors include:<br />\n<span style="font-family:tahoma\;">Aland Realty&nbsp\; &nbsp\; &nbsp\; &nbsp\; &nbsp\; &nbsp\; &nbsp\; &nbsp\; &nbsp\; &nbsp\; &nbsp\; &nbsp\;alandrealty.com</span></span>\n<table border="0" cellpadding="0" cellspacing="0" width="360">\n	<colgroup>\n		<col style="width:180px\;" />\n		<col style="width:180px\;" />\n	</colgroup>\n	<tbody>\n		<tr>\n			<td height="20" style="height:20px\;width:180px\;font-size:11pt\;color:black\;font-family:Calibri\;border-top:0.5pt solid rgb(128\, 100\, 162)\;border-right:none\;border-bottom:none\;border-left:none\;">Angela Branon Fine Arts</td>\n			<td style="width:180px\;font-size:11pt\;color:black\;font-family:Calibri\;border-top:0.5pt solid rgb(128\, 100\, 162)\;border-right:none\;border-bottom:none\;border-left:none\;">&nbsp\;</td>\n		</tr>\n		<tr height="20" style="height:20px\;">\n			<td height="20" style="height:20px\;width:180px\;font-size:11pt\;color:black\;font-family:Calibri\;border-top:0.5pt solid rgb(128\, 100\, 162)\;border-right:none\;border-bottom:none\;border-left:none\;">Art Hope</td>\n			<td style="width:180px\;font-size:11pt\;color:black\;font-family:Calibri\;border-top:0.5pt solid rgb(128\, 100\, 162)\;border-right:none\;border-bottom:none\;border-left:none\;">arthope.org</td>\n		</tr>\n		<tr>\n			<td height="20" style="height:20px\;width:180px\;font-size:11pt\;color:black\;font-family:Calibri\;border-top:0.5pt solid rgb(128\, 100\, 162)\;border-right:none\;border-bottom:none\;border-left:none\;">Arundel Ice Cream Shop Cart</td>\n			<td style="width:180px\;font-size:11pt\;color:black\;font-family:Calibri\;border-top:0.5pt solid rgb(128\, 100\, 162)\;border-right:none\;border-bottom:none\;border-left:none\;">arundelicecreamshop.com</td>\n		</tr>\n		<tr>\n			<td height="20" style="height:20px\;width:180px\;font-size:11pt\;color:black\;font-family:Calibri\;border-top:0.5pt solid rgb(128\, 100\, 162)\;border-right:none\;border-bottom:none\;border-left:none\;">Austill&#39\;s Beeswax Paintings</td>\n			<td style="width:180px\;font-size:11pt\;color:black\;font-family:Calibri\;border-top:0.5pt solid rgb(128\, 100\, 162)\;border-right:none\;border-bottom:none\;border-left:none\;">loriaustill.com</td>\n		</tr>\n		<tr>\n			<td height="20" style="height:20px\;width:180px\;font-size:11pt\;color:black\;font-family:Calibri\;border-top:0.5pt solid rgb(128\, 100\, 162)\;border-right:none\;border-bottom:none\;border-left:none\;">C2C Food Truck</td>\n			<td style="width:180px\;font-size:11pt\;color:black\;font-family:Calibri\;border-top:0.5pt solid rgb(128\, 100\, 162)\;border-right:none\;border-bottom:none\;border-left:none\;">coast2coastcaterers.com</td>\n		</tr>\n		<tr height="20" style="height:20px\;">\n			<td height="20" style="height:20px\;font-size:11pt\;color:black\;font-family:Calibri\;border-top:0.5pt solid rgb(128\, 100\, 162)\;border-right:none\;border-bottom:none\;border-left:none\;">Creative Turnings by John</td>\n			<td style="font-size:11pt\;color:black\;font-family:Calibri\;border-top:0.5pt solid rgb(128\, 100\, 162)\;border-right:none\;border-bottom:none\;border-left:none\;">&nbsp\;</td>\n		</tr>\n		<tr height="20" style="height:20px\;">\n			<td height="20" style="height:20px\;font-size:11pt\;color:black\;font-family:Calibri\;border-top:0.5pt solid rgb(128\, 100\, 162)\;border-right:none\;border-bottom:none\;border-left:none\;">David Sullivan Photography</td>\n			<td style="font-size:11pt\;color:black\;font-family:Calibri\;border-top:0.5pt solid rgb(128\, 100\, 162)\;border-right:none\;border-bottom:none\;border-left:none\;">dsullivanphotography.com</td>\n		</tr>\n		<tr height="20" style="height:20px\;">\n			<td height="20" style="height:20px\;font-size:11pt\;color:black\;font-family:Calibri\;border-top:0.5pt solid rgb(128\, 100\, 162)\;border-right:none\;border-bottom:none\;border-left:none\;">Glass by CLM</td>\n			<td style="font-size:11pt\;color:black\;font-family:Calibri\;border-top:0.5pt solid rgb(128\, 100\, 162)\;border-right:none\;border-bottom:none\;border-left:none\;">glassbyclm.com</td>\n		</tr>\n		<tr height="20" style="height:20px\;">\n			<td height="20" style="height:20px\;font-size:11pt\;color:black\;font-family:Calibri\;border-top:0.5pt solid rgb(128\, 100\, 162)\;border-right:none\;border-bottom:none\;border-left:none\;">Homemade Specialty&nbsp\;</td>\n			<td style="font-size:11pt\;color:black\;font-family:Calibri\;border-top:0.5pt solid rgb(128\, 100\, 162)\;border-right:none\;border-bottom:none\;border-left:none\;">homemadespecialty.com</td>\n		</tr>\n		<tr height="20" style="height:20px\;">\n			<td height="20" style="height:20px\;font-size:11pt\;color:black\;font-family:Calibri\;border-top:0.5pt solid rgb(128\, 100\, 162)\;border-right:none\;border-bottom:none\;border-left:none\;">Hubba Hubba Foods</td>\n			<td style="font-size:11pt\;color:black\;font-family:Calibri\;border-top:0.5pt solid rgb(128\, 100\, 162)\;border-right:none\;border-bottom:none\;border-left:none\;">hubbahubbafoods.com</td>\n		</tr>\n		<tr height="20" style="height:20px\;">\n			<td height="20" style="height:20px\;font-size:11pt\;color:black\;font-family:Calibri\;border-top:0.5pt solid rgb(128\, 100\, 162)\;border-right:none\;border-bottom:none\;border-left:none\;">Jim O&#39\;Reilly Photography</td>\n			<td style="font-size:11pt\;color:black\;font-family:Calibri\;border-top:0.5pt solid rgb(128\, 100\, 162)\;border-right:none\;border-bottom:none\;border-left:none\;">jimoreillyphoto.com</td>\n		</tr>\n		<tr height="20" style="height:20px\;">\n			<td height="20" style="height:20px\;font-size:11pt\;color:black\;font-family:Calibri\;border-top:0.5pt solid rgb(128\, 100\, 162)\;border-right:none\;border-bottom:none\;border-left:none\;">Lakonia Greek Products</td>\n			<td style="font-size:11pt\;color:black\;font-family:Calibri\;border-top:0.5pt solid rgb(128\, 100\, 162)\;border-right:none\;border-bottom:none\;border-left:none\;">dafnigreekgourmet.com</td>\n		</tr>\n		<tr height="20" style="height:20px\;">\n			<td height="20" style="height:20px\;font-size:11pt\;color:black\;font-family:Calibri\;border-top:0.5pt solid rgb(128\, 100\, 162)\;border-right:none\;border-bottom:none\;border-left:none\;">Leather Man Dan</td>\n			<td style="font-size:11pt\;color:black\;font-family:Calibri\;border-top:0.5pt solid rgb(128\, 100\, 162)\;border-right:none\;border-bottom:none\;border-left:none\;">leathermandan.com</td>\n		</tr>\n		<tr height="20" style="height:20px\;">\n			<td height="20" style="height:20px\;font-size:11pt\;color:black\;font-family:Calibri\;border-top:0.5pt solid rgb(128\, 100\, 162)\;border-right:none\;border-bottom:none\;border-left:none\;">Mainely Chic Designs</td>\n			<td style="font-size:11pt\;color:black\;font-family:Calibri\;border-top:0.5pt solid rgb(128\, 100\, 162)\;border-right:none\;border-bottom:none\;border-left:none\;">&nbsp\;</td>\n		</tr>\n		<tr>\n			<td height="20" style="height:20px\;font-size:11pt\;color:black\;font-family:Calibri\;border-top:0.5pt solid rgb(128\, 100\, 162)\;border-right:none\;border-bottom:none\;border-left:none\;">Ogunquit Rotary Club</td>\n			<td style="font-size:11pt\;color:black\;font-family:Calibri\;border-top:0.5pt solid rgb(128\, 100\, 162)\;border-right:none\;border-bottom:none\;border-left:none\;">ogunquitrotaryme.org</td>\n		</tr>\n		<tr height="20" style="height:20px\;">\n			<td height="20" style="height:20px\;font-size:11pt\;color:black\;font-family:Calibri\;border-top:0.5pt solid rgb(128\, 100\, 162)\;border-right:none\;border-bottom:none\;border-left:none\;">Red Crow Studio</td>\n			<td style="font-size:11pt\;color:black\;font-family:Calibri\;border-top:0.5pt solid rgb(128\, 100\, 162)\;border-right:none\;border-bottom:none\;border-left:none\;">&nbsp\;</td>\n		</tr>\n		<tr height="20" style="height:20px\;">\n			<td height="20" style="height:20px\;font-size:11pt\;color:black\;font-family:Calibri\;border-top:0.5pt solid rgb(128\, 100\, 162)\;border-right:none\;border-bottom:none\;border-left:none\;">Shore D&eacute\;cor</td>\n			<td style="font-size:11pt\;color:black\;font-family:Calibri\;border-top:0.5pt solid rgb(128\, 100\, 162)\;border-right:none\;border-bottom:none\;border-left:none\;">shoredecor.org</td>\n		</tr>\n		<tr height="20" style="height:20px\;">\n			<td height="20" style="height:20px\;font-size:11pt\;color:black\;font-family:Calibri\;border-top:0.5pt solid rgb(128\, 100\, 162)\;border-right:none\;border-bottom:none\;border-left:none\;">Sunshine Apothecary</td>\n			<td style="font-size:11pt\;color:black\;font-family:Calibri\;border-top:0.5pt solid rgb(128\, 100\, 162)\;border-right:none\;border-bottom:none\;border-left:none\;">endlessherbs.com</td>\n		</tr>\n		<tr>\n			<td height="20" style="height:20px\;font-size:11pt\;color:black\;font-family:Calibri\;border-top:0.5pt solid rgb(128\, 100\, 162)\;border-right:none\;border-bottom:none\;border-left:none\;">Talespin Studio</td>\n			<td style="font-size:11pt\;color:black\;font-family:Calibri\;border-top:0.5pt solid rgb(128\, 100\, 162)\;border-right:none\;border-bottom:none\;border-left:none\;">&nbsp\;</td>\n		</tr>\n		<tr>\n			<td height="20" style="height:20px\;font-size:11pt\;color:black\;font-family:Calibri\;border-top:0.5pt solid rgb(128\, 100\, 162)\;border-right:none\;border-bottom:none\;border-left:none\;">The Truffle Truck</td>\n			<td style="font-size:11pt\;color:black\;font-family:Calibri\;border-top:0.5pt solid rgb(128\, 100\, 162)\;border-right:none\;border-bottom:none\;border-left:none\;">truffletruck.com</td>\n		</tr>\n		<tr>\n			<td height="20" style="height:20px\;font-size:11pt\;color:black\;font-family:Calibri\;border-top:0.5pt solid rgb(128\, 100\, 162)\;border-right:none\;border-bottom:none\;border-left:none\;">Treasures from Trees</td>\n			<td style="font-size:11pt\;color:black\;font-family:Calibri\;border-top:0.5pt solid rgb(128\, 100\, 162)\;border-right:none\;border-bottom:none\;border-left:none\;">&nbsp\;</td>\n		</tr>\n		<tr>\n			<td height="20" style="height:20px\;font-size:11pt\;color:black\;font-family:Calibri\;border-top:0.5pt solid rgb(128\, 100\, 162)\;border-right:none\;border-bottom:none\;border-left:none\;">&nbsp\;</td>\n			<td style="font-size:11pt\;color:black\;font-family:Calibri\;border-top:0.5pt solid rgb(128\, 100\, 162)\;border-right:none\;border-bottom:none\;border-left:none\;">&nbsp\;</td>\n		</tr>\n	</tbody>\n</table>\n&nbsp\; &nbsp\;&nbsp\;<br />\n&nbsp\; &nbsp\;<br />\n<br />\n&nbsp\;
LOCATION:Dorothea Jacobs Grant Common\, Obed's Lane. Parking lot is accessible by Cottage Street.
UID:e.882.5042
SEQUENCE:3
DTSTAMP:20260420T090940Z
URL:https://chamber.ogunquit.org/events/details/ogunquit-s-day-in-the-park-5042
END:VEVENT

END:VCALENDAR
