BEGIN:VCALENDAR
VERSION:2.0
PRODID:-//ChamberMaster//Event Calendar 2.0//EN
METHOD:PUBLISH
X-PUBLISHED-TTL:P3D
REFRESH-INTERVAL:P3D
CALSCALE:GREGORIAN
BEGIN:VEVENT
DTSTART:20260718T003000Z
DTEND:20260718T020000Z
X-MICROSOFT-CDO-ALLDAYEVENT:FALSE
SUMMARY:Paula Poundstone
DESCRIPTION:Paula Poundstone brings her quick wit\, sharp observational humor\, and unmatched improvisational style to Jonathan's Ogunquit. Known for her clever crowd work\, spontaneous storytelling\, and iconic comedic timing\, she delivers a night of smart\, engaging\, and laugh-out-loud comedy. Every show is different\, unpredictable\, and unforgettable.
X-ALT-DESC;FMTTYPE=text/html:Paula Poundstone brings her quick wit\, sharp observational humor\, and unmatched improvisational style to Jonathan&rsquo\;s Ogunquit. Known for her clever crowd work\, spontaneous storytelling\, and iconic comedic timing\, she delivers a night of smart\, engaging\, and laugh-out-loud comedy. Every show is different\, unpredictable\, and unforgettable.
LOCATION:Jonathan's Ogunquit 92 Bourne Ln\, Ogunquit\, ME 03907
UID:e.882.58354
SEQUENCE:3
DTSTAMP:20260422T124530Z
URL:https://chamber.ogunquit.org/events/details/paula-poundstone-07-17-2026-58354
END:VEVENT

END:VCALENDAR
