BEGIN:VCALENDAR
VERSION:2.0
PRODID:-//ChamberMaster//Event Calendar 2.0//EN
METHOD:PUBLISH
X-PUBLISHED-TTL:P3D
REFRESH-INTERVAL:P3D
CALSCALE:GREGORIAN
BEGIN:VEVENT
DTSTART:20260612T233000Z
DTEND:20260613T010000Z
X-MICROSOFT-CDO-ALLDAYEVENT:FALSE
SUMMARY:Rock This Town Orchestra - Swingin Through The 50's & 60's
DESCRIPTION:Rock This Town Orchestra delivers a high-energy fusion of rock\, swing\, and big-band flair inspired by the music of the Stray Cats and Brian Setzer. Featuring powerhouse vocals\, blazing horns\, and electrifying guitar work\, the group brings a retro-cool\, dance-driven performance that lights up the stage. Expect a fast-paced\, feel-good night of rockabilly classics and modern twists.
X-ALT-DESC;FMTTYPE=text/html:Rock This Town Orchestra delivers a high-energy fusion of rock\, swing\, and big-band flair inspired by the music of the Stray Cats and Brian Setzer. Featuring powerhouse vocals\, blazing horns\, and electrifying guitar work\, the group brings a retro-cool\, dance-driven performance that lights up the stage. Expect a fast-paced\, feel-good night of rockabilly classics and modern twists.
LOCATION:Jonathan's Ogunquit 92 Bourne Ln\, Ogunquit\, ME 03907
UID:e.882.58346
SEQUENCE:3
DTSTAMP:20260422T132258Z
URL:https://chamber.ogunquit.org/events/details/rock-this-town-orchestra-swingin-through-the-50-s-60-s-58346
END:VEVENT

END:VCALENDAR
