BEGIN:VCALENDAR
VERSION:2.0
PRODID:-//ChamberMaster//Event Calendar 2.0//EN
METHOD:PUBLISH
X-PUBLISHED-TTL:P3D
REFRESH-INTERVAL:P3D
CALSCALE:GREGORIAN
BEGIN:VEVENT
DTSTART:20260626T234500Z
DTEND:20260627T011500Z
X-MICROSOFT-CDO-ALLDAYEVENT:FALSE
SUMMARY:Running On Jackson – The Premier Jackson Browne Tribute Concert
DESCRIPTION:Running On Jackson delivers a powerful and heartfelt tribute to Jackson Browne\, capturing the warmth\, storytelling\, and signature sound of his iconic catalog. With rich vocals\, authentic arrangements\, and a band that mirrors Browne's timeless style\, the show brings classics like "Running on Empty\," "Doctor My Eyes\," and "The Pretender" to life. A must-see night for fans of one of America's greatest songwriters.
X-ALT-DESC;FMTTYPE=text/html:Running On Jackson delivers a powerful and heartfelt tribute to Jackson Browne\, capturing the warmth\, storytelling\, and signature sound of his iconic catalog. With rich vocals\, authentic arrangements\, and a band that mirrors Browne&rsquo\;s timeless style\, the show brings classics like &ldquo\;Running on Empty\,&rdquo\; &ldquo\;Doctor My Eyes\,&rdquo\; and &ldquo\;The Pretender&rdquo\; to life. A must-see night for fans of one of America&rsquo\;s greatest songwriters.
LOCATION:Jonathan's Ogunquit 92 Bourne Ln\, Ogunquit\, ME 03907
UID:e.882.58348
SEQUENCE:3
DTSTAMP:20260422T132354Z
URL:https://chamber.ogunquit.org/events/details/running-on-jackson-the-premier-jackson-browne-tribute-concert-06-26-2026-58348
END:VEVENT

END:VCALENDAR
