BEGIN:VCALENDAR
VERSION:2.0
PRODID:-//ChamberMaster//Event Calendar 2.0//EN
METHOD:PUBLISH
X-PUBLISHED-TTL:P3D
REFRESH-INTERVAL:P3D
CALSCALE:GREGORIAN
BEGIN:VEVENT
DTSTART;VALUE=DATE:20171007
DTEND;VALUE=DATE:20171010
TRANSP:TRANSPARENT
X-MICROSOFT-CDO-ALLDAYEVENT:TRUE
SUMMARY:Salefest as part of MaineOktoberfest
DESCRIPTION:SALEFEST: End of season sales! Sidewalk sales in downtown Short Sands Beach from 10 - 4pm & inside sales in Kittery\, Ogunquit & Cape Neddick.
X-ALT-DESC;FMTTYPE=text/html:SALEFEST: End of season sales! Sidewalk sales in downtown Short Sands Beach from 10 - 4pm &amp\; inside sales in Kittery\, Ogunquit &amp\; Cape Neddick.
LOCATION:
UID:e.882.3669
SEQUENCE:3
DTSTAMP:20260423T194032Z
URL:https://chamber.ogunquit.org/events/details/salefest-as-part-of-maineoktoberfest-3669
END:VEVENT

END:VCALENDAR
