BEGIN:VCALENDAR
VERSION:2.0
PRODID:-//ChamberMaster//Event Calendar 2.0//EN
METHOD:PUBLISH
X-PUBLISHED-TTL:P3D
REFRESH-INTERVAL:P3D
CALSCALE:GREGORIAN
BEGIN:VEVENT
DTSTART:20260712T003000Z
DTEND:20260712T020000Z
X-MICROSOFT-CDO-ALLDAYEVENT:FALSE
SUMMARY:Sean Chambers & The Savoy Brown Rhythm Section with The James Montgomery Band
DESCRIPTION:Blues-rock powerhouse Sean Chambers joins forces with The Savoy Brown Rhythm Section for a fiery\, guitar-driven performance rooted in classic blues tradition. Paired with the legendary James Montgomery Band known for their explosive harmonica work and high-energy stage presence this double-bill delivers a night of raw\, electrifying musicianship. Expect soulful vocals\, searing solos\, and a full-throttle blues experience.
X-ALT-DESC;FMTTYPE=text/html:Blues-rock powerhouse Sean Chambers joins forces with The Savoy Brown Rhythm Section for a fiery\, guitar-driven performance rooted in classic blues tradition. Paired with the legendary James Montgomery Band&mdash\;known for their explosive harmonica work and high-energy stage presence&mdash\;this double-bill delivers a night of raw\, electrifying musicianship. Expect soulful vocals\, searing solos\, and a full-throttle blues experience.
LOCATION:Jonathan's Ogunquit 92 Bourne Ln\, Ogunquit\, ME 03907
UID:e.882.58351
SEQUENCE:3
DTSTAMP:20260422T124847Z
URL:https://chamber.ogunquit.org/events/details/sean-chambers-the-savoy-brown-rhythm-section-with-the-james-montgomery-band-58351
END:VEVENT

END:VCALENDAR
