BEGIN:VCALENDAR
VERSION:2.0
PRODID:-//ChamberMaster//Event Calendar 2.0//EN
METHOD:PUBLISH
X-PUBLISHED-TTL:P3D
REFRESH-INTERVAL:P3D
CALSCALE:GREGORIAN
BEGIN:VEVENT
DTSTART:20170617T000000Z
DTEND:20170618T020000Z
X-MICROSOFT-CDO-ALLDAYEVENT:FALSE
SUMMARY:She Loves Me
DESCRIPTION:June 16 - 17\; 21 - 24\; 28 - July 1 matinee June 22\, 29 An intimate and touching show about two feuding perfume clerks who have no idea that they are in love with each other. Written by the team that gave us "Fiddler on the Roof" and "Cabaret" the show has a touch of endearing innocence\, old world elegance and is Hackmatack's summer Valentine for the Audience at Maine's unique barn theater.
X-ALT-DESC;FMTTYPE=text/html:June 16 - 17\; 21 - 24\; 28 - July 1 matinee June 22\, 29 An intimate and touching show about two feuding perfume clerks who have no idea that they are in love with each other. Written by the team that gave us &quot\;Fiddler on the Roof&quot\; and &quot\;Cabaret&quot\; the show has a touch of endearing innocence\, old world elegance and is Hackmatack&#39\;s summer Valentine for the Audience at Maine&rsquo\;s unique barn theater.
LOCATION:Hackmatack Playhouse
UID:e.882.1625
SEQUENCE:3
DTSTAMP:20260421T233756Z
URL:https://chamber.ogunquit.org/events/details/she-loves-me-1625
END:VEVENT

END:VCALENDAR
