BEGIN:VCALENDAR
VERSION:2.0
PRODID:-//ChamberMaster//Event Calendar 2.0//EN
METHOD:PUBLISH
X-PUBLISHED-TTL:P3D
REFRESH-INTERVAL:P3D
CALSCALE:GREGORIAN
BEGIN:VEVENT
DTSTART:20170429T140000Z
DTEND:20170430T210000Z
X-MICROSOFT-CDO-ALLDAYEVENT:FALSE
SUMMARY:Shell We Stitch embroidery exhibit
DESCRIPTION:The Southern Maine Chapter of The Embroiderer's Guild of America invites you to an exhibit of original needlework as part of their regional seminar. Boutique and exhibit.
X-ALT-DESC;FMTTYPE=text/html:The Southern Maine Chapter of The Embroiderer&#39\;s Guild of America invites you to an exhibit of original needlework as part of their regional seminar. Boutique and exhibit.
LOCATION:Cliff House\, Ogunquit
UID:e.882.1654
SEQUENCE:3
DTSTAMP:20260419T184017Z
URL:https://chamber.ogunquit.org/events/details/shell-we-stitch-embroidery-exhibit-1654
END:VEVENT

END:VCALENDAR
