BEGIN:VCALENDAR
VERSION:2.0
PRODID:-//ChamberMaster//Event Calendar 2.0//EN
METHOD:PUBLISH
X-PUBLISHED-TTL:P3D
REFRESH-INTERVAL:P3D
CALSCALE:GREGORIAN
BEGIN:VEVENT
DTSTART:20260723T233000Z
DTEND:20260724T010000Z
X-MICROSOFT-CDO-ALLDAYEVENT:FALSE
SUMMARY:Something Wonderful Tonight\, Tribute to Eric Clapton & George Harrison
DESCRIPTION:Something Wonderful Tonight celebrates the timeless music of Eric Clapton and George Harrison with soulful vocals\, masterful guitar work\, and faithful arrangements of their most iconic songs. From Clapton's blues-rock brilliance to Harrison's melodic\, spiritual songwriting\, this tribute delivers a warm\, nostalgic\, and musically rich evening honoring two of rock's most influential legends.
X-ALT-DESC;FMTTYPE=text/html:Something Wonderful Tonight celebrates the timeless music of Eric Clapton and George Harrison with soulful vocals\, masterful guitar work\, and faithful arrangements of their most iconic songs. From Clapton&rsquo\;s blues-rock brilliance to Harrison&rsquo\;s melodic\, spiritual songwriting\, this tribute delivers a warm\, nostalgic\, and musically rich evening honoring two of rock&rsquo\;s most influential legends.
LOCATION:Jonathan's Ogunquit 92 Bourne Ln\, Ogunquit\, ME 03907
UID:e.882.58357
SEQUENCE:3
DTSTAMP:20260422T124801Z
URL:https://chamber.ogunquit.org/events/details/something-wonderful-tonight-tribute-to-eric-clapton-george-harrison-07-23-2026-58357
END:VEVENT

END:VCALENDAR
