BEGIN:VCALENDAR
VERSION:2.0
PRODID:-//ChamberMaster//Event Calendar 2.0//EN
METHOD:PUBLISH
X-PUBLISHED-TTL:P3D
REFRESH-INTERVAL:P3D
CALSCALE:GREGORIAN
BEGIN:VEVENT
DTSTART:20260706T001500Z
DTEND:20260706T014500Z
X-MICROSOFT-CDO-ALLDAYEVENT:FALSE
SUMMARY:Steve Sweeney Comedy
DESCRIPTION:Boston comedy legend Steve Sweeney brings his sharp wit\, rapid-fire delivery\, and iconic New England humor to the Jonathan's Ogunquit stage. Known for his unforgettable characters\, observational punchlines\, and decades of stand-up mastery\, Sweeney delivers a night of smart\, high-energy comedy that keeps audiences laughing nonstop.
X-ALT-DESC;FMTTYPE=text/html:Boston comedy legend Steve Sweeney brings his sharp wit\, rapid-fire delivery\, and iconic New England humor to the Jonathan&rsquo\;s Ogunquit stage. Known for his unforgettable characters\, observational punchlines\, and decades of stand-up mastery\, Sweeney delivers a night of smart\, high-energy comedy that keeps audiences laughing nonstop.
LOCATION:Jonathan's Ogunquit 92 Bourne Ln\, Ogunquit\, ME 03907
UID:e.882.58349
SEQUENCE:3
DTSTAMP:20260422T124603Z
URL:https://chamber.ogunquit.org/events/details/steve-sweeney-comedy-07-05-2026-58349
END:VEVENT

END:VCALENDAR
