BEGIN:VCALENDAR
VERSION:2.0
PRODID:-//ChamberMaster//Event Calendar 2.0//EN
METHOD:PUBLISH
X-PUBLISHED-TTL:P3D
REFRESH-INTERVAL:P3D
CALSCALE:GREGORIAN
BEGIN:VEVENT
DTSTART:20260816T000000Z
DTEND:20260816T013000Z
X-MICROSOFT-CDO-ALLDAYEVENT:FALSE
SUMMARY:Studio Two – The Early Beatles Tribute
DESCRIPTION:Studio Two is a high-energy Beatles tribute featuring Berklee-trained musicians who recreate the band's early years (1962 1966) with period-correct instruments\, outfits\, and arrangements. Focused on the Beatles' most exciting club and touring era\, the show delivers danceable early rock 'n' roll hits and transports audiences straight back to the height of Beatlemania.
X-ALT-DESC;FMTTYPE=text/html:Studio Two is a high-energy Beatles tribute featuring Berklee-trained musicians who recreate the band&rsquo\;s early years (1962&ndash\;1966) with period-correct instruments\, outfits\, and arrangements. Focused on the Beatles&rsquo\; most exciting club and touring era\, the show delivers danceable early rock &rsquo\;n&rsquo\; roll hits and transports audiences straight back to the height of Beatlemania.
LOCATION:Jonathan's Ogunquit 92 Bourne Ln\, Ogunquit\, ME 03907
UID:e.882.58363
SEQUENCE:3
DTSTAMP:20260422T111230Z
URL:https://chamber.ogunquit.org/events/details/studio-two-the-early-beatles-tribute-08-15-2026-58363
END:VEVENT

END:VCALENDAR
