BEGIN:VCALENDAR
VERSION:2.0
PRODID:-//ChamberMaster//Event Calendar 2.0//EN
METHOD:PUBLISH
X-PUBLISHED-TTL:P3D
REFRESH-INTERVAL:P3D
CALSCALE:GREGORIAN
BEGIN:VEVENT
DTSTART:20180217T150000Z
DTEND:20180217T180000Z
X-MICROSOFT-CDO-ALLDAYEVENT:FALSE
SUMMARY:Teacup Fairy Houses at the Meetinghouse Museum
DESCRIPTION:"Teeny Teacup Fairy Gardens" is a very special program for all ages. All materials will be supplied to create fanciful tiny worlds!
X-ALT-DESC;FMTTYPE=text/html:&nbsp\;&ldquo\;Teeny Teacup Fairy Gardens&rdquo\; is a very special program for all ages. All materials will be supplied to create fanciful tiny worlds!&nbsp\;
LOCATION:The Meetinghouse Museum is located at The Historical Society of Wells and Ogunquit on 938 Post Road in Wells.
UID:e.882.3881
SEQUENCE:3
DTSTAMP:20260423T053145Z
URL:https://chamber.ogunquit.org/events/details/teacup-fairy-houses-at-the-meetinghouse-museum-3881
END:VEVENT

END:VCALENDAR
