BEGIN:VCALENDAR
VERSION:2.0
PRODID:-//ChamberMaster//Event Calendar 2.0//EN
METHOD:PUBLISH
X-PUBLISHED-TTL:P3D
REFRESH-INTERVAL:P3D
CALSCALE:GREGORIAN
BEGIN:VEVENT
DTSTART:20260620T003000Z
DTEND:20260620T020000Z
X-MICROSOFT-CDO-ALLDAYEVENT:FALSE
SUMMARY:The Breakers – A Tribute to Tom Petty
DESCRIPTION:Shades of Blue delivers a smooth\, soulful blend of blues\, jazz\, and contemporary groove\, showcasing rich vocals and polished musicianship. Their dynamic set features expressive arrangements\, tight rhythms\, and a warm\, atmospheric sound that brings both energy and elegance to the stage. A perfect night for fans of modern blues and soulful live performance.
X-ALT-DESC;FMTTYPE=text/html:Shades of Blue delivers a smooth\, soulful blend of blues\, jazz\, and contemporary groove\, showcasing rich vocals and polished musicianship. Their dynamic set features expressive arrangements\, tight rhythms\, and a warm\, atmospheric sound that brings both energy and elegance to the stage. A perfect night for fans of modern blues and soulful live performance.
LOCATION:Jonathan's Ogunquit 92 Bourne Ln\, Ogunquit\, ME 03907
UID:e.882.58347
SEQUENCE:3
DTSTAMP:20260422T132131Z
URL:https://chamber.ogunquit.org/events/details/the-breakers-a-tribute-to-tom-petty-58347
END:VEVENT

END:VCALENDAR
