BEGIN:VCALENDAR
VERSION:2.0
PRODID:-//ChamberMaster//Event Calendar 2.0//EN
METHOD:PUBLISH
X-PUBLISHED-TTL:P3D
REFRESH-INTERVAL:P3D
CALSCALE:GREGORIAN
BEGIN:VEVENT
DTSTART:20260808T000000Z
DTEND:20260808T013000Z
X-MICROSOFT-CDO-ALLDAYEVENT:FALSE
SUMMARY:The Joni Project - Celebrating the Music of Joni Mitchell
DESCRIPTION:The Joni Project\, fronted by multi-instrumentalist Katie Pearlman\, delivers a stunning and musically rich tribute to Joni Mitchell. Celebrating the 50th anniversary of Hejira\, the band performs classics like "Coyote\," "Black Crow\," "Amelia\," and more\, alongside favorites from Blue\, Court and Spark\, Clouds\, and other eras. Featuring top-tier musicians who have performed with members of the Grateful Dead\, The Band\, The Doors\, and more\, this show captures the artistry\, innovation\, and emotional depth of Joni's legendary catalog.
X-ALT-DESC;FMTTYPE=text/html:<h2>The Joni Project\, fronted by multi-instrumentalist Katie Pearlman\, delivers a stunning and musically rich tribute to Joni Mitchell. Celebrating the 50th anniversary of Hejira\, the band performs classics like &ldquo\;Coyote\,&rdquo\; &ldquo\;Black Crow\,&rdquo\; &ldquo\;Amelia\,&rdquo\; and more\, alongside favorites from Blue\, Court and Spark\, Clouds\, and other eras. Featuring top-tier musicians who have performed with members of the Grateful Dead\, The Band\, The Doors\, and more\, this show captures the artistry\, innovation\, and emotional depth of Joni&rsquo\;s legendary catalog.</h2>\n
LOCATION:Jonathan's Ogunquit 92 Bourne Ln\, Ogunquit\, ME 03907
UID:e.882.58362
SEQUENCE:3
DTSTAMP:20260422T111620Z
URL:https://chamber.ogunquit.org/events/details/the-joni-project-celebrating-the-music-of-joni-mitchell-08-07-2026-58362
END:VEVENT

END:VCALENDAR
