BEGIN:VCALENDAR
VERSION:2.0
PRODID:-//ChamberMaster//Event Calendar 2.0//EN
METHOD:PUBLISH
X-PUBLISHED-TTL:P3D
REFRESH-INTERVAL:P3D
CALSCALE:GREGORIAN
BEGIN:VEVENT
DTSTART:20260926T001500Z
DTEND:20260926T014500Z
X-MICROSOFT-CDO-ALLDAYEVENT:FALSE
SUMMARY:The Linda Ronstadt Experience featuring American Idol Star Tristan McIntosh
DESCRIPTION:American Idol finalist Tristan McIntosh leads The Linda Ronstadt Experience in a powerful\, emotional tribute to one of the greatest voices in music history. With purity\, range\, and heartfelt delivery\, McIntosh brings Ronstadt's iconic hits You're No Good\, Blue Bayou\, When Will I Be Loved\, That'll Be the Day\, and more to life with stunning authenticity. This show takes audiences on a musical journey through Ronstadt's chart-topping catalog\, performed with passion\, precision\, and soaring vocals that honor her legacy.
X-ALT-DESC;FMTTYPE=text/html:American Idol finalist Tristan McIntosh leads The Linda Ronstadt Experience in a powerful\, emotional tribute to one of the greatest voices in music history. With purity\, range\, and heartfelt delivery\, McIntosh brings Ronstadt&rsquo\;s iconic hits&mdash\;You&rsquo\;re No Good\, Blue Bayou\, When Will I Be Loved\, That&rsquo\;ll Be the Day\, and more&mdash\;to life with stunning authenticity. This show takes audiences on a musical journey through Ronstadt&rsquo\;s chart-topping catalog\, performed with passion\, precision\, and soaring vocals that honor her legacy.
LOCATION:Jonathan's Ogunquit 92 Bourne Ln\, Ogunquit\, ME 03907
UID:e.882.58368
SEQUENCE:3
DTSTAMP:20260422T094312Z
URL:https://chamber.ogunquit.org/events/details/the-linda-ronstadt-experience-featuring-american-idol-star-tristan-mcintosh-58368
END:VEVENT

END:VCALENDAR
