BEGIN:VCALENDAR
VERSION:2.0
PRODID:-//ChamberMaster//Event Calendar 2.0//EN
METHOD:PUBLISH
X-PUBLISHED-TTL:P3D
REFRESH-INTERVAL:P3D
CALSCALE:GREGORIAN
BEGIN:VEVENT
DTSTART:20260828T234500Z
DTEND:20260829T011500Z
X-MICROSOFT-CDO-ALLDAYEVENT:FALSE
SUMMARY:The Peacheaters – An Allman Brothers Band Experience
DESCRIPTION:The Peacheaters deliver a powerful\, immersive tribute to the Allman Brothers Band\, channeling the twin-guitar harmonies\, double-drummer energy\, and soulful Southern-rock sound that defined the ABB legacy. With deep cuts\, extended jams\, and passionate musicianship\, they recreate the raw\, electric spirit of the Allmans' legendary live shows.
X-ALT-DESC;FMTTYPE=text/html:The Peacheaters deliver a powerful\, immersive tribute to the Allman Brothers Band\, channeling the twin-guitar harmonies\, double-drummer energy\, and soulful Southern-rock sound that defined the ABB legacy. With deep cuts\, extended jams\, and passionate musicianship\, they recreate the raw\, electric spirit of the Allmans&rsquo\; legendary live shows.
LOCATION:Jonathan's Ogunquit 92 Bourne Ln\, Ogunquit\, ME 03907
UID:e.882.58364
SEQUENCE:3
DTSTAMP:20260422T111401Z
URL:https://chamber.ogunquit.org/events/details/the-peacheaters-an-allman-brothers-band-experience-08-28-2026-58364
END:VEVENT

END:VCALENDAR
