BEGIN:VCALENDAR
VERSION:2.0
PRODID:-//ChamberMaster//Event Calendar 2.0//EN
METHOD:PUBLISH
X-PUBLISHED-TTL:P3D
REFRESH-INTERVAL:P3D
CALSCALE:GREGORIAN
BEGIN:VEVENT
DTSTART:20260713T000000Z
DTEND:20260713T013000Z
X-MICROSOFT-CDO-ALLDAYEVENT:FALSE
SUMMARY:The Traveling Wilburys Revue
DESCRIPTION:The Traveling Wilburys Revue brings the legendary supergroup's music to life with rich harmonies\, vibrant energy\, and faithful recreations of hits by George Harrison\, Tom Petty\, Bob Dylan\, Roy Orbison\, and Jeff Lynne. This dynamic tribute captures the spirit\, humor\, and collaborative magic that defined the Wilburys' iconic sound. Expect a feel-good night packed with classics\, deep cuts\, and timeless rock nostalgia.
X-ALT-DESC;FMTTYPE=text/html:The Traveling Wilburys Revue brings the legendary supergroup&rsquo\;s music to life with rich harmonies\, vibrant energy\, and faithful recreations of hits by George Harrison\, Tom Petty\, Bob Dylan\, Roy Orbison\, and Jeff Lynne. This dynamic tribute captures the spirit\, humor\, and collaborative magic that defined the Wilburys&rsquo\; iconic sound. Expect a feel-good night packed with classics\, deep cuts\, and timeless rock nostalgia.
LOCATION:Jonathan's Ogunquit 92 Bourne Ln\, Ogunquit\, ME 03907
UID:e.882.58352
SEQUENCE:3
DTSTAMP:20260422T124847Z
URL:https://chamber.ogunquit.org/events/details/the-traveling-wilburys-revue-07-12-2026-58352
END:VEVENT

END:VCALENDAR
