BEGIN:VCALENDAR
VERSION:2.0
PRODID:-//ChamberMaster//Event Calendar 2.0//EN
METHOD:PUBLISH
X-PUBLISHED-TTL:P3D
REFRESH-INTERVAL:P3D
CALSCALE:GREGORIAN
BEGIN:VEVENT
DTSTART:20160725T000000Z
DTEND:20160725T020000Z
X-MICROSOFT-CDO-ALLDAYEVENT:FALSE
SUMMARY:Tim Janis in Concert
DESCRIPTION:Tim Janis in Concert
X-ALT-DESC;FMTTYPE=text/html:Tim Janis in Concert
LOCATION:First Parish Congregational Church/Moody Hall 180 York Street York\, ME 03909
UID:e.882.52
SEQUENCE:3
DTSTAMP:20260421T205658Z
URL:https://chamber.ogunquit.org/events/details/tim-janis-in-concert-07-24-2016-52
END:VEVENT

END:VCALENDAR
