BEGIN:VCALENDAR
VERSION:2.0
PRODID:-//ChamberMaster//Event Calendar 2.0//EN
METHOD:PUBLISH
X-PUBLISHED-TTL:P3D
REFRESH-INTERVAL:P3D
CALSCALE:GREGORIAN
BEGIN:VEVENT
DTSTART:20260515T233000Z
DTEND:20260516T010000Z
X-MICROSOFT-CDO-ALLDAYEVENT:FALSE
SUMMARY:Tom Snow & Friends
DESCRIPTION:A special jazz performance led by pianist and bandleader Tom Snow\, joined by vocalist Katie Oberholtzer\, bassist Marshall Wood\, drummer Phil McGowan\, and legendary saxophonist Ralph Norris. The ensemble delivers a night of expressive arrangements and classic jazz repertoire performed by master musicians.
X-ALT-DESC;FMTTYPE=text/html:A special jazz performance led by pianist and bandleader Tom Snow\, joined by vocalist Katie Oberholtzer\, bassist Marshall Wood\, drummer Phil McGowan\, and legendary saxophonist Ralph Norris. The ensemble delivers a night of expressive arrangements and classic jazz repertoire performed by master musicians.
LOCATION:Venue Address: 92 Bourne Ln\, Ogunquit\, ME 03907
UID:e.882.58332
SEQUENCE:3
DTSTAMP:20260422T114400Z
URL:https://chamber.ogunquit.org/events/details/tom-snow-friends-58332
END:VEVENT

END:VCALENDAR
