BEGIN:VCALENDAR
VERSION:2.0
PRODID:-//ChamberMaster//Event Calendar 2.0//EN
METHOD:PUBLISH
X-PUBLISHED-TTL:P3D
REFRESH-INTERVAL:P3D
CALSCALE:GREGORIAN
BEGIN:VEVENT
DTSTART:20260905T003000Z
DTEND:20260905T010000Z
X-MICROSOFT-CDO-ALLDAYEVENT:FALSE
SUMMARY:Traveller – The Chris Stapleton Experience
DESCRIPTION:Traveller   The Chris Stapleton Experience brings together a powerhouse lineup of A-list musicians to recreate the soulful\, gritty\, and emotionally charged sound of Chris Stapleton. With Alec Antobenedetto's uncanny vocal resemblance\, Tina Daurizio's Morgane-style harmonies\, rich pedal steel\, whiskey-soaked guitar lines\, and a world-class rhythm section\, this show delivers a stunningly authentic Stapleton tribute that leaves audiences wanting more.
X-ALT-DESC;FMTTYPE=text/html:Traveller &ndash\; The Chris Stapleton Experience brings together a powerhouse lineup of A-list musicians to recreate the soulful\, gritty\, and emotionally charged sound of Chris Stapleton. With Alec Antobenedetto&rsquo\;s uncanny vocal resemblance\, Tina Daurizio&rsquo\;s Morgane-style harmonies\, rich pedal steel\, whiskey-soaked guitar lines\, and a world-class rhythm section\, this show delivers a stunningly authentic Stapleton tribute that leaves audiences wanting more.
LOCATION:Jonathan's Ogunquit 92 Bourne Ln\, Ogunquit\, ME 03907
UID:e.882.58365
SEQUENCE:3
DTSTAMP:20260422T094122Z
URL:https://chamber.ogunquit.org/events/details/traveller-the-chris-stapleton-experience-09-04-2026-58365
END:VEVENT

END:VCALENDAR
