BEGIN:VCALENDAR
VERSION:2.0
PRODID:-//ChamberMaster//Event Calendar 2.0//EN
METHOD:PUBLISH
X-PUBLISHED-TTL:P3D
REFRESH-INTERVAL:P3D
CALSCALE:GREGORIAN
BEGIN:VEVENT
DTSTART:20260725T233000Z
DTEND:20260726T010000Z
X-MICROSOFT-CDO-ALLDAYEVENT:FALSE
SUMMARY:Yesterday Once more
DESCRIPTION:Yesterday Once More celebrates the unforgettable music of the Carpenters with warm vocals\, lush arrangements\, and faithful renditions of their most beloved hits. This tribute captures the elegance\, emotion\, and timeless melodies that defined Karen and Richard Carpenter's iconic sound\, delivering a nostalgic and heartfelt evening of classic pop.
X-ALT-DESC;FMTTYPE=text/html:Yesterday Once More celebrates the unforgettable music of the Carpenters with warm vocals\, lush arrangements\, and faithful renditions of their most beloved hits. This tribute captures the elegance\, emotion\, and timeless melodies that defined Karen and Richard Carpenter&rsquo\;s iconic sound\, delivering a nostalgic and heartfelt evening of classic pop.
LOCATION:Yesterday Once More brings a heartfelt Carpenters tribute to Jonathan's Ogunquit on July 25\, 2026.
UID:e.882.58358
SEQUENCE:3
DTSTAMP:20260422T124437Z
URL:https://chamber.ogunquit.org/events/details/yesterday-once-more-58358
END:VEVENT

END:VCALENDAR
